BEGIN:VCALENDAR
VERSION:2.0
PRODID:-//Adopt a Retired Racing Greyhound | GEM – Michigan &amp; Ohio - ECPv6.15.20//NONSGML v1.0//EN
CALSCALE:GREGORIAN
METHOD:PUBLISH
X-WR-CALNAME:Adopt a Retired Racing Greyhound | GEM – Michigan &amp; Ohio
X-ORIGINAL-URL:https://gemgreyhound.org
X-WR-CALDESC:Events for Adopt a Retired Racing Greyhound | GEM – Michigan &amp; Ohio
REFRESH-INTERVAL;VALUE=DURATION:PT1H
X-Robots-Tag:noindex
X-PUBLISHED-TTL:PT1H
BEGIN:VTIMEZONE
TZID:America/Detroit
BEGIN:DAYLIGHT
TZOFFSETFROM:-0500
TZOFFSETTO:-0400
TZNAME:EDT
DTSTART:20240310T070000
END:DAYLIGHT
BEGIN:STANDARD
TZOFFSETFROM:-0400
TZOFFSETTO:-0500
TZNAME:EST
DTSTART:20241103T060000
END:STANDARD
BEGIN:DAYLIGHT
TZOFFSETFROM:-0500
TZOFFSETTO:-0400
TZNAME:EDT
DTSTART:20250309T070000
END:DAYLIGHT
BEGIN:STANDARD
TZOFFSETFROM:-0400
TZOFFSETTO:-0500
TZNAME:EST
DTSTART:20251102T060000
END:STANDARD
BEGIN:DAYLIGHT
TZOFFSETFROM:-0500
TZOFFSETTO:-0400
TZNAME:EDT
DTSTART:20260308T070000
END:DAYLIGHT
BEGIN:STANDARD
TZOFFSETFROM:-0400
TZOFFSETTO:-0500
TZNAME:EST
DTSTART:20261101T060000
END:STANDARD
END:VTIMEZONE
BEGIN:VEVENT
DTSTART;TZID=America/Detroit:20250126T110000
DTEND;TZID=America/Detroit:20250126T130000
DTSTAMP:20260420T100617
CREATED:20250116T164221Z
LAST-MODIFIED:20250116T164221Z
UID:19197-1737889200-1737896400@gemgreyhound.org
SUMMARY:Open Membership Zoom Meeting
DESCRIPTION:Everyone is invited to attend! We’ll recap 2024 and discuss what’s coming in 2025! Interested in joining? Send an email to gemsecretary15@gmail.com by 9AM on meeting day for an invite. A reminder will also be posted on our Facebook page GEM Chat. Hope to see you there!
URL:https://gemgreyhound.org/item/open-membership-zoom-meeting/
LOCATION:Michigan
ORGANIZER;CN="Jim Simmons":MAILTO:gemsecretary15@gmail.com
END:VEVENT
END:VCALENDAR